BEGIN:VCALENDAR
VERSION:2.0
PRODID:-//ChamberMaster//Event Calendar 2.0//EN
METHOD:PUBLISH
X-PUBLISHED-TTL:P3D
REFRESH-INTERVAL:P3D
CALSCALE:GREGORIAN
BEGIN:VEVENT
DTSTART:20200228T013000Z
DTEND:20200228T023000Z
X-MICROSOFT-CDO-ALLDAYEVENT:FALSE
SUMMARY:UNK Symphonic Band Concert
DESCRIPTION:Join us at the FAB for UNK's Symphonic Band presents their first concert of the year. This concert is FREE and open to the public and will be livestreamed at http://www.unk.edu/academics/music/performing-art-live-stream-events.php
X-ALT-DESC;FMTTYPE=text/html:Join us at the FAB for UNK&#39\;s Symphonic Band presents their first concert of the year. This concert is FREE and open to the public and will be livestreamed at http://www.unk.edu/academics/music/performing-art-live-stream-events.php
LOCATION:UNK FAB Recital Hall
UID:e.1404.18320
SEQUENCE:3
DTSTAMP:20260425T113231Z
URL:https://chambermaster.kearneycoc.org/events/details/unk-symphonic-band-concert-18320
END:VEVENT

END:VCALENDAR
