BEGIN:VCALENDAR
VERSION:2.0
PRODID:-//ChamberMaster//Event Calendar 2.0//EN
METHOD:PUBLISH
X-PUBLISHED-TTL:P3D
REFRESH-INTERVAL:P3D
CALSCALE:GREGORIAN
BEGIN:VEVENT
DTSTART:20191121T183000Z
DTEND:20191121T193000Z
X-MICROSOFT-CDO-ALLDAYEVENT:FALSE
SUMMARY:UNK Thursday Student Recital
DESCRIPTION:Come 'Join in the Music'! These recitals occur weekly during the semester as a way for UNK Music Department students to perform the pieces they are working on in lessons. Recitals will be live streamed at the following link: http://www.unk.edu/academics/music/performing-art-live-stream-events.php
X-ALT-DESC;FMTTYPE=text/html:Come &#39\;Join in the Music&#39\;! These recitals occur weekly during the semester as a way for UNK Music Department students to perform the pieces they are working on in lessons. Recitals will be live streamed at the following link: http://www.unk.edu/academics/music/performing-art-live-stream-events.php
LOCATION:UNK FAB Recital Hall
UID:e.1404.16615
SEQUENCE:3
DTSTAMP:20260425T163940Z
URL:https://chambermaster.kearneycoc.org/events/details/unk-thursday-student-recital-11-21-2019-16615
END:VEVENT

END:VCALENDAR
