BEGIN:VCALENDAR
VERSION:2.0
PRODID:-//ChamberMaster//Event Calendar 2.0//EN
METHOD:PUBLISH
X-PUBLISHED-TTL:P3D
REFRESH-INTERVAL:P3D
CALSCALE:GREGORIAN
BEGIN:VEVENT
DTSTART:20191103T210000Z
DTEND:20191103T220000Z
X-MICROSOFT-CDO-ALLDAYEVENT:FALSE
SUMMARY:UNK Voice Recital: Dawn Mollenkopf\, mezzo-soprano
DESCRIPTION:Come 'Join in the Music' as Dawn Mollenkopf presents a voice recital. Recital will be live streamed at http://www.unk.edu/academics/music/performing-art-live-stream-events.php
X-ALT-DESC;FMTTYPE=text/html:Come &#39\;Join in the Music&#39\; as Dawn Mollenkopf presents a voice recital. Recital will be live streamed at http://www.unk.edu/academics/music/performing-art-live-stream-events.php
LOCATION:UNK FAB Recital Hall
UID:e.1404.18240
SEQUENCE:3
DTSTAMP:20260425T164150Z
URL:https://chambermaster.kearneycoc.org/events/details/unk-voice-recital-dawn-mollenkopf-mezzo-soprano-18240
END:VEVENT

END:VCALENDAR
