BEGIN:VCALENDAR
VERSION:2.0
PRODID:-//ChamberMaster//Event Calendar 2.0//EN
METHOD:PUBLISH
X-PUBLISHED-TTL:P3D
REFRESH-INTERVAL:P3D
CALSCALE:GREGORIAN
BEGIN:VEVENT
DTSTART:20161105T190000Z
DTEND:20161105T200000Z
X-MICROSOFT-CDO-ALLDAYEVENT:FALSE
SUMMARY:Veteran's Day Parade
DESCRIPTION:https://www.facebook.com/kearney.vfw/\n\nhttps://www.facebook.com/events/327092647642336/
X-ALT-DESC;FMTTYPE=text/html:<a href="https://www.facebook.com/kearney.vfw/">https://www.facebook.com/kearney.vfw/</a><br />\n<a href="https://www.facebook.com/events/327092647642336/">https://www.facebook.com/events/327092647642336/</a>
LOCATION:Downtown Kearney
UID:e.1404.8574
SEQUENCE:3
DTSTAMP:20260421T132802Z
URL:https://chambermaster.kearneycoc.org/events/details/veteran-s-day-parade-11-05-2016-8574
END:VEVENT

END:VCALENDAR
