BEGIN:VCALENDAR
VERSION:2.0
PRODID:-//ChamberMaster//Event Calendar 2.0//EN
METHOD:PUBLISH
X-PUBLISHED-TTL:P3D
REFRESH-INTERVAL:P3D
CALSCALE:GREGORIAN
BEGIN:VEVENT
DTSTART:20141108T200000Z
DTEND:20141108T210000Z
X-MICROSOFT-CDO-ALLDAYEVENT:FALSE
SUMMARY:Veterans Day Parade
DESCRIPTION:Downtown Kearney on the Bricks\n\nParade Date & Time: Saturday\, November 8th at 2 pm\n\n\n\nFor the most recent updates "like" our new page on Facebook:\n\nhttps://www.facebook.com/pages/Kearneys-Veterans-Day-Parade/768232016556439?sk=timeline\n\n\n\nIf you are interested in participating\, click here  for Veterans Day Parade Entry Form
X-ALT-DESC;FMTTYPE=text/html:Downtown Kearney on the Bricks<br />\nParade Date &amp\; Time: Saturday\, November 8th at 2 pm<br />\n<br />\nFor the most recent updates &quot\;like&quot\; our new page on Facebook:<br />\n<a href="https://www.facebook.com/pages/Kearneys-Veterans-Day-Parade/768232016556439?sk=timeline" target="_blank">https://www.facebook.com/pages/Kearneys-Veterans-Day-Parade/768232016556439?sk=timeline</a><br />\n<br />\nIf you are interested in participating\, click <a href="http://cloud.chambermaster.com/userfiles/UserFiles/chambers/1404/File/PARADEENTRYFORM.pdf">here</a>&#8203\; for Veterans Day Parade Entry Form<br />\n&nbsp\;
LOCATION:
UID:e.1404.5379
SEQUENCE:3
DTSTAMP:20260423T051032Z
URL:https://chambermaster.kearneycoc.org/events/details/veterans-day-parade-11-08-2014-5379
END:VEVENT

END:VCALENDAR
