BEGIN:VCALENDAR
VERSION:2.0
PRODID:-//ChamberMaster//Event Calendar 2.0//EN
METHOD:PUBLISH
X-PUBLISHED-TTL:P3D
REFRESH-INTERVAL:P3D
CALSCALE:GREGORIAN
BEGIN:VEVENT
DTSTART:20191207T013000Z
DTEND:20191207T023000Z
X-MICROSOFT-CDO-ALLDAYEVENT:FALSE
SUMMARY:Violin & Viola Studio Recital
DESCRIPTION:Come 'Join in the Music' as the UNK Violin & Viola Studio present a recital.
X-ALT-DESC;FMTTYPE=text/html:Come &#39\;Join in the Music&#39\; as the UNK Violin &amp\; Viola Studio present a recital.
LOCATION:UNK FAB Recital Hall
UID:e.1404.18236
SEQUENCE:3
DTSTAMP:20260425T163707Z
URL:https://chambermaster.kearneycoc.org/events/details/violin-viola-studio-recital-18236
END:VEVENT

END:VCALENDAR
