BEGIN:VCALENDAR
VERSION:2.0
PRODID:-//ChamberMaster//Event Calendar 2.0//EN
METHOD:PUBLISH
X-PUBLISHED-TTL:P3D
REFRESH-INTERVAL:P3D
CALSCALE:GREGORIAN
BEGIN:VEVENT
DTSTART:20201001T220000Z
DTEND:20201002T000000Z
X-MICROSOFT-CDO-ALLDAYEVENT:FALSE
SUMMARY:VIP - Baer Studios
DESCRIPTION:Join us for a V.I.P. to help Baer Studios celebrate their 25th Anniversary!
X-ALT-DESC;FMTTYPE=text/html:Join us for a V.I.P. to help <u><a href="http://www.baerphoto.com/"><span style="color:#0000CD\;">Baer S</span></a><span style="color:#0000CD\;">tudios</span></u>&nbsp\;celebrate their 25th Anniversary!
LOCATION:8470 2nd Ave. (north of Kearney on Hwy 10) Kearney NE
UID:e.1404.18701
SEQUENCE:3
DTSTAMP:20260424T222804Z
URL:https://chambermaster.kearneycoc.org/events/details/vip-baer-studios-18701
END:VEVENT

END:VCALENDAR
