BEGIN:VCALENDAR
VERSION:2.0
PRODID:-//ChamberMaster//Event Calendar 2.0//EN
METHOD:PUBLISH
X-PUBLISHED-TTL:P3D
REFRESH-INTERVAL:P3D
CALSCALE:GREGORIAN
BEGIN:VEVENT
DTSTART:20200820T220000Z
DTEND:20200821T000000Z
X-MICROSOFT-CDO-ALLDAYEVENT:FALSE
SUMMARY:VIP - Eakes Office Solutions
DESCRIPTION:Please join us in celebrating the 75th Anniversary of Eakes Office Solutions!
X-ALT-DESC;FMTTYPE=text/html:Please join us in celebrating the 75th Anniversary of Eakes Office Solutions!
LOCATION:Eakes Office Solutions 2401 Ave A Kearney NE
UID:e.1404.17883
SEQUENCE:3
DTSTAMP:20260425T015626Z
URL:https://chambermaster.kearneycoc.org/events/details/vip-eakes-office-solutions-17883
END:VEVENT

END:VCALENDAR
