BEGIN:VCALENDAR
VERSION:2.0
PRODID:-//ChamberMaster//Event Calendar 2.0//EN
METHOD:PUBLISH
X-PUBLISHED-TTL:P3D
REFRESH-INTERVAL:P3D
CALSCALE:GREGORIAN
BEGIN:VEVENT
DTSTART:20191219T230000Z
DTEND:20191220T010000Z
X-MICROSOFT-CDO-ALLDAYEVENT:FALSE
SUMMARY:VIP - Hello Beautiful Bridal and Formal Wear
DESCRIPTION:Please join us to help Hello Beautiful Bridal and Formal Wear celebrate their 5th year in business and their new location!
X-ALT-DESC;FMTTYPE=text/html:Please join us to help <a href="https://hellobeautifulbridal.com/">Hello Beautiful Bridal and Formal Wear</a> celebrate their 5th year in business and their new location!
LOCATION:2309 Central Ave
UID:e.1404.18247
SEQUENCE:3
DTSTAMP:20260425T150406Z
URL:https://chambermaster.kearneycoc.org/events/details/vip-hello-beautiful-bridal-and-formal-wear-18247
END:VEVENT

END:VCALENDAR
