BEGIN:VCALENDAR
VERSION:2.0
PRODID:-//ChamberMaster//Event Calendar 2.0//EN
METHOD:PUBLISH
X-PUBLISHED-TTL:P3D
REFRESH-INTERVAL:P3D
CALSCALE:GREGORIAN
BEGIN:VEVENT
DTSTART:20190418T220000Z
DTEND:20190419T000000Z
X-MICROSOFT-CDO-ALLDAYEVENT:FALSE
SUMMARY:VIP - Slumberland Furniture
DESCRIPTION:Please join us in celebrating Slumberland Furniture's 15th year in Kearney!
X-ALT-DESC;FMTTYPE=text/html:Please join us in celebrating Slumberland Furniture&#39\;s 15th year in Kearney!
LOCATION:Slumberland Furniture 5816 2nd Ave W
UID:e.1404.15077
SEQUENCE:3
DTSTAMP:20260426T033406Z
URL:https://chambermaster.kearneycoc.org/events/details/vip-slumberland-furniture-15077
END:VEVENT

END:VCALENDAR
