BEGIN:VCALENDAR
VERSION:2.0
PRODID:-//ChamberMaster//Event Calendar 2.0//EN
METHOD:PUBLISH
X-PUBLISHED-TTL:P3D
REFRESH-INTERVAL:P3D
CALSCALE:GREGORIAN
BEGIN:VEVENT
DTSTART:20190905T220000Z
DTEND:20190906T000000Z
X-MICROSOFT-CDO-ALLDAYEVENT:FALSE
SUMMARY:VIP - Wilkins Architecture Design Planning
DESCRIPTION:Join us for a VIP event to help Wilkins Architecture Design Planning celebrate their 40th Anniversary!
X-ALT-DESC;FMTTYPE=text/html:Join us for a VIP event to help Wilkins Architecture Design Planning celebrate their 40th Anniversary!
LOCATION:Younes Conference Center - Younes Pavilion
UID:e.1404.12616
SEQUENCE:3
DTSTAMP:20260425T194825Z
URL:https://chambermaster.kearneycoc.org/events/details/vip-wilkins-architecture-design-planning-12616
END:VEVENT

END:VCALENDAR
