BEGIN:VCALENDAR
VERSION:2.0
PRODID:-//ChamberMaster//Event Calendar 2.0//EN
METHOD:PUBLISH
X-PUBLISHED-TTL:P3D
REFRESH-INTERVAL:P3D
CALSCALE:GREGORIAN
BEGIN:VEVENT
DTSTART:20161015T140000Z
DTEND:20161015T140000Z
X-MICROSOFT-CDO-ALLDAYEVENT:FALSE
SUMMARY:Volt Bolt 5k/Family Power Walk & Energy Fest
DESCRIPTION:Nebraska Public Power District is proud to unveil its inaugural Volt Bolt 5k/Family Power Walk & Energy Fest\, taking place at Kearney's Yanney Park starting at 9 a.m. Saturday\, Oct. 15! Awards will be handed out to the top three winners in each age group by gender\, and special awards will be given to the overall male and female winners.\n\n\n\nBest yet\, participation in the event   in either the 5k or power walk   will help NPPD's Pennies for Power program\, a program which helps families in need pay their electric bills\, through registration proceeds.\n\n\n\nThe Volt Bolt is so much more than your typical 5k event. It's also a chance to bring your family and friends out for a fun-filled morning of hands-on activities and live line electrical safety demonstrations.
X-ALT-DESC;FMTTYPE=text/html:<span style="font-family:tahoma\,sans-serif\;"><span style="font-size:12pt\;">Nebraska Public Power District is proud to unveil its inaugural Volt Bolt 5k/Family Power Walk &amp\; Energy Fest\, taking place at Kearney&#39\;s Yanney Park starting at 9 a.m. Saturday\, Oct. 15! Awards will be handed out to the top three winners in each age group by gender\, and special awards will be given to the overall male and female winners.<br />\n<br />\nBest yet\, participation in the event &ndash\; in either the 5k or power walk &ndash\; will help NPPD&#39\;s Pennies for Power program\, a program which helps families in need pay their electric bills\, through registration proceeds.<br />\n<br />\nThe Volt Bolt&nbsp\;is so much more than your typical 5k event. It&#39\;s also a chance to bring your family and friends out for a fun-filled morning of hands-on activities and live line electrical safety demonstrations.</span></span>
LOCATION:Yanney Park
UID:e.1404.8999
SEQUENCE:3
DTSTAMP:20260421T140648Z
URL:https://chambermaster.kearneycoc.org/events/details/volt-bolt-5k-family-power-walk-energy-fest-8999
END:VEVENT

END:VCALENDAR
