BEGIN:VCALENDAR
VERSION:2.0
PRODID:-//ChamberMaster//Event Calendar 2.0//EN
METHOD:PUBLISH
X-PUBLISHED-TTL:P3D
REFRESH-INTERVAL:P3D
CALSCALE:GREGORIAN
BEGIN:VEVENT
DTSTART;VALUE=DATE:20160901
DTEND;VALUE=DATE:20160916
TRANSP:TRANSPARENT
X-MICROSOFT-CDO-ALLDAYEVENT:TRUE
SUMMARY:Walk in Cope's Shoes
DESCRIPTION:We will give away 1\,000 pairs of tennis shoes to kids in Pre-K through 12th grade at Kearney Public Schools.
X-ALT-DESC;FMTTYPE=text/html:We will give away 1\,000 pairs of tennis shoes to kids in Pre-K through 12th&nbsp\;grade at Kearney Public Schools.
LOCATION:
UID:e.1404.8995
SEQUENCE:3
DTSTAMP:20260421T153116Z
URL:https://chambermaster.kearneycoc.org/events/details/walk-in-cope-s-shoes-8995
END:VEVENT

END:VCALENDAR
