BEGIN:VCALENDAR
VERSION:2.0
PRODID:-//ChamberMaster//Event Calendar 2.0//EN
METHOD:PUBLISH
X-PUBLISHED-TTL:P3D
REFRESH-INTERVAL:P3D
CALSCALE:GREGORIAN
BEGIN:VEVENT
DTSTART:20211201T160000Z
DTEND:20211201T190000Z
X-MICROSOFT-CDO-ALLDAYEVENT:FALSE
SUMMARY:Walk In Wednesday
DESCRIPTION:Nebraska Department of Labor and Kearney Works are partnering for a workshop/hiring event - Each Wednesday\, December 1-22. The workshop is from 10am-10:45am and includes: Building an effective resume and/or improving interviewing skills. The Hiring Event is from 11:00am-01:00pm. Businesses that have registered will discuss their businesses and job openings. Instant interviews are possible.
X-ALT-DESC;FMTTYPE=text/html:Nebraska Department of Labor and Kearney Works are partnering for a workshop/hiring event - Each Wednesday\, December 1-22. The workshop is from 10am-10:45am and includes: Building an effective resume and/or improving interviewing skills. The Hiring Event is from 11:00am-01:00pm. Businesses that have registered will discuss their businesses and job openings. Instant interviews are possible.
LOCATION:315 W. 60th Street\, Conference Room (Heritage Bank Plaza - South Side - Middle Doors)
UID:e.1404.19466
SEQUENCE:3
DTSTAMP:20260423T213408Z
URL:https://chambermaster.kearneycoc.org/events/details/walk-in-wednesday-19466
END:VEVENT

END:VCALENDAR
