BEGIN:VCALENDAR
VERSION:2.0
PRODID:-//ChamberMaster//Event Calendar 2.0//EN
METHOD:PUBLISH
X-PUBLISHED-TTL:P3D
REFRESH-INTERVAL:P3D
CALSCALE:GREGORIAN
BEGIN:VEVENT
DTSTART:20150513T160000Z
DTEND:20150513T180000Z
X-MICROSOFT-CDO-ALLDAYEVENT:FALSE
SUMMARY:Walk Out On Your Job
DESCRIPTION:2015 marks the 25th anniversary of Walk Out On Your Job (that's right\, WOOYJ shares a birthday with Honey\, I Shrunk the Kids!). It's one of Kearney's most celebrated and successful health events\, and this year it's going to be better than ever!\n\nThe celebration will begin with a 1.5-mile walk along the Links Trail and end with lunch and festivities at the UNK fountain. Over the past years\, we've seen steady attendance at around 2\,200 walkers\, but we're hoping to see even more as we celebrate the walk's 25th anniversary. Check out our video of the 2014 Walk Out On Your Job\, or our blog post about the 2013 Walk Out On Your Job.
X-ALT-DESC;FMTTYPE=text/html:<p style="border: 0px\; margin: 0px 0px 20px\; padding: 0px\; font-size: 13px\; color: rgb(85\, 85\, 85)\; font-family: 'droid sans'\, 'Times New Roman'\, Times\, serif\; line-height: 20.7999992370605px\; background-color: rgb(251\, 251\, 251)\;">2015 marks the 25th anniversary of Walk Out On Your Job (that&rsquo\;s right\, WOOYJ shares a birthday with&nbsp\;<em style="border: 0px\; margin: 0px\; padding: 0px\;">Honey\, I Shrunk the Kids</em>!). It&rsquo\;s one of Kearney&rsquo\;s most celebrated and successful health events\, and this year it&rsquo\;s going to be better than ever!</p>\n\n<p style="border: 0px\; margin: 0px 0px 20px\; padding: 0px\; font-size: 13px\; color: rgb(85\, 85\, 85)\; font-family: 'droid sans'\, 'Times New Roman'\, Times\, serif\; line-height: 20.7999992370605px\; background-color: rgb(251\, 251\, 251)\;">The celebration will begin with a 1.5-mile walk along the Links Trail and end with lunch and festivities at the UNK fountain. Over the past years\, we&rsquo\;ve seen steady attendance at around 2\,200 walkers\, but we&rsquo\;re hoping to see even more as we celebrate the walk&rsquo\;s 25th anniversary.&nbsp\;Check out our video of&nbsp\;the&nbsp\;<a href="http://www.activatebuffalocounty.com/2014-walk-out-on-your-job-finish-to-start/" style="border: 0px\; margin: 0px\; padding: 0px\; text-decoration: none\; color: rgb(34\, 34\, 34)\;"><strong style="border: 0px\; margin: 0px\; padding: 0px\;">2014</strong></a><a href="http://www.activatebuffalocounty.com/2014-walk-out-on-your-job-finish-to-start/" style="border: 0px\; margin: 0px\; padding: 0px\; text-decoration: none\; color: rgb(34\, 34\, 34)\;"><strong style="border: 0px\; margin: 0px\; padding: 0px\;"> Walk Out On Your Job</strong></a>\, or our blog post about the&nbsp\;<strong style="border: 0px\; margin: 0px\; padding: 0px\;"><a href="http://www.activatebuffalocounty.com/2013-walk-out-on-your-job-recap/" style="border: 0px\; margin: 0px\; padding: 0px\; text-decoration: none\; color: rgb(34\, 34\, 34)\;">2013 Walk Out On Your Job</a></strong>.</p>\n
LOCATION:University of Nebraska at Kearney College of Education parking lot
UID:e.1404.6219
SEQUENCE:3
DTSTAMP:20260422T182347Z
URL:https://chambermaster.kearneycoc.org/events/details/walk-out-on-your-job-05-13-2015-6219
END:VEVENT

END:VCALENDAR
