BEGIN:VCALENDAR
VERSION:2.0
PRODID:-//ChamberMaster//Event Calendar 2.0//EN
METHOD:PUBLISH
X-PUBLISHED-TTL:P3D
REFRESH-INTERVAL:P3D
CALSCALE:GREGORIAN
BEGIN:VEVENT
DTSTART:20160714T210000Z
DTEND:20160714T230000Z
X-MICROSOFT-CDO-ALLDAYEVENT:FALSE
SUMMARY:Welcome Reception
DESCRIPTION:Join us for a reception to welcome Max Kathol\, our new President & CEO of the Kearney Area Chamber of Commerce.
X-ALT-DESC;FMTTYPE=text/html:Join us for a reception to welcome Max Kathol\, our new President &amp\; CEO of the Kearney Area Chamber of Commerce.
LOCATION:Kearney Area Cahmber of Commerce Board Room 1007 2nd Ave Kearney\, NE
UID:e.1404.8920
SEQUENCE:3
DTSTAMP:20260421T184226Z
URL:https://chambermaster.kearneycoc.org/events/details/welcome-reception-07-14-2016-8920
END:VEVENT

END:VCALENDAR
