BEGIN:VCALENDAR
VERSION:2.0
PRODID:-//ChamberMaster//Event Calendar 2.0//EN
METHOD:PUBLISH
X-PUBLISHED-TTL:P3D
REFRESH-INTERVAL:P3D
CALSCALE:GREGORIAN
BEGIN:VEVENT
DTSTART:20190928T020000Z
DTEND:20190928T060000Z
X-MICROSOFT-CDO-ALLDAYEVENT:FALSE
SUMMARY:William Clark Green w/ Dylan Bloom Live at JD's
DESCRIPTION:Enjoy a night out at JD's by listening to William Clark Green w/ Dylan Bloom!
X-ALT-DESC;FMTTYPE=text/html:Enjoy a night out at JD&#39\;s by listening to William Clark Green w/ Dylan Bloom!
LOCATION:JD's 2023 1st Ave
UID:e.1404.17898
SEQUENCE:3
DTSTAMP:20260425T195440Z
URL:https://chambermaster.kearneycoc.org/events/details/william-clark-green-w-dylan-bloom-live-at-jd-s-17898
END:VEVENT

END:VCALENDAR
