BEGIN:VCALENDAR
VERSION:2.0
PRODID:-//ChamberMaster//Event Calendar 2.0//EN
METHOD:PUBLISH
X-PUBLISHED-TTL:P3D
REFRESH-INTERVAL:P3D
CALSCALE:GREGORIAN
BEGIN:VEVENT
DTSTART;VALUE=DATE:20191226
DTEND;VALUE=DATE:20191229
TRANSP:TRANSPARENT
X-MICROSOFT-CDO-ALLDAYEVENT:TRUE
SUMMARY:Winter Whiteout Sales
DESCRIPTION:Hit the Bricks for end-of-season sales Thursday\, December 26th through Saturday\, December 28th! Check with individual stores for participation\, hours and sales.
X-ALT-DESC;FMTTYPE=text/html:Hit the Bricks for end-of-season sales Thursday\, December 26th through Saturday\, December 28th! Check with individual stores for participation\, hours and sales.
LOCATION:Downtown Kearney
UID:e.1404.18281
SEQUENCE:3
DTSTAMP:20260425T150128Z
URL:https://chambermaster.kearneycoc.org/events/details/winter-whiteout-sales-18281
END:VEVENT

END:VCALENDAR
