BEGIN:VCALENDAR
VERSION:2.0
PRODID:-//ChamberMaster//Event Calendar 2.0//EN
METHOD:PUBLISH
X-PUBLISHED-TTL:P3D
REFRESH-INTERVAL:P3D
CALSCALE:GREGORIAN
BEGIN:VEVENT
DTSTART:20190802T130000Z
DTEND:20190802T200000Z
X-MICROSOFT-CDO-ALLDAYEVENT:FALSE
SUMMARY:World of Wizards Camp
DESCRIPTION:Children will fight off darkness with the light they have inside them! We will stir up some imagination with various arts and crafts and team games that teach bravery and strength.\n\nAges 4-10\n\nChildren need to bring a sack lunch.\n\n\n\nActivities include:\n\n1. Creating wands\n\n2. Science activities that create a POP and a FIZZ\n\n3. Enjoying tasty treats like frogs and butter beer! (don't worry parents\, it's safe)
X-ALT-DESC;FMTTYPE=text/html:Children will fight off darkness with the light they have inside them! We will stir up some imagination with various arts and crafts and team games that teach bravery and strength.<br />\nAges 4-10<br />\nChildren need to bring a sack lunch.<br />\n<br />\nActivities include:<br />\n1. Creating wands<br />\n2. Science activities that create a POP and a FIZZ<br />\n3. Enjoying tasty treats like frogs and butter beer! (don&#39\;t worry parents\, it&#39\;s safe)
LOCATION:Kearney Area Children's Museum Alia Arram Memorial Building 5827 4th Avenue\, Kearney\, NE 68845
UID:e.1404.16564
SEQUENCE:3
DTSTAMP:20260425T213105Z
URL:https://chambermaster.kearneycoc.org/events/details/world-of-wizards-camp-16564
END:VEVENT

END:VCALENDAR
