BEGIN:VCALENDAR
VERSION:2.0
PRODID:-//ChamberMaster//Event Calendar 2.0//EN
METHOD:PUBLISH
X-PUBLISHED-TTL:P3D
REFRESH-INTERVAL:P3D
CALSCALE:GREGORIAN
BEGIN:VEVENT
DTSTART:20150524T180000Z
DTEND:20150524T210000Z
X-MICROSOFT-CDO-ALLDAYEVENT:FALSE
SUMMARY:World's Largest Coat!
DESCRIPTION:Help Crane River Theater kick off our summer season by constructing the World?s Largest Coat with the cast of Joseph and the Amazing Technicolor Dreamcoat! We invite everyone to decorate any piece of 1 foot by 2 foot fabric\, from the closet\, old tablecloths or curtains and bring it to the park any time between 1pm and 4pm\, and watch it become part of this grand coat that will span the entire hillside! Purchase discount tickets to Joseph and the Amazing Technicolor Dreamcoat! Popcorn\, icy pops and water will be available! Questions? Call Crane River Theater at 308-627-5796
X-ALT-DESC;FMTTYPE=text/html:Help Crane River Theater kick off our summer season by constructing the World?s Largest Coat with the cast of Joseph and the Amazing Technicolor Dreamcoat! We invite everyone to decorate any piece of 1 foot by 2 foot fabric\, from the closet\, old tablecloths or curtains and bring it to the park any time between 1pm and 4pm\, and watch it become part of this grand coat that will span the entire hillside! Purchase discount tickets to Joseph and the Amazing Technicolor Dreamcoat! Popcorn\, icy pops and water will be available! Questions? Call Crane River Theater at 308-627-5796
LOCATION:Cope Amphitheater at Yanney Heritage Park\, 2020 11th Street\, Kearney NE
UID:e.1404.6271
SEQUENCE:3
DTSTAMP:20260422T182030Z
URL:https://chambermaster.kearneycoc.org/events/details/world-s-largest-coat-05-24-2015-6271
END:VEVENT

END:VCALENDAR
