BEGIN:VCALENDAR
VERSION:2.0
PRODID:-//ChamberMaster//Event Calendar 2.0//EN
METHOD:PUBLISH
X-PUBLISHED-TTL:P3D
REFRESH-INTERVAL:P3D
CALSCALE:GREGORIAN
BEGIN:VEVENT
DTSTART:20130726T003000Z
DTEND:20130726T023000Z
X-MICROSOFT-CDO-ALLDAYEVENT:FALSE
SUMMARY:Y102 Presents MOH Gone Country
DESCRIPTION:Lucus Hoge is our third performer in this country series event. \n\n	Lucas is a Nebraska-born performer who has been nominated for multiple music awards both in\n\n	Country and Contemporary Christian circles. He's also written and performed TV theme songs\, \n\n	toured all over the world\, and has appeared on a TV show on the Animal Planet network. It seems \n\n	there isn't anything this guy can't do!
X-ALT-DESC;FMTTYPE=text/html:<p class="MsoNormal" style="margin-top:0in\;margin-right:0in\;margin-bottom:1.0pt\;\nmargin-left:27.0pt\;text-indent:-27.0pt\;line-height:75%\;mso-pagination:none\;\ntab-stops:4.4pt">\n	<b><span segoe="" style="font-family:">&nbsp\;</span></b></p>\n<p class="MsoNormal" style="margin-top:0in\;margin-right:0in\;margin-bottom:1.0pt\;\nmargin-left:27.0pt\;text-indent:-27.0pt\;line-height:75%\;mso-pagination:none\;\ntab-stops:4.4pt">\n	<b>Lucus Hoge is our third performer in this country series event.&nbsp\;<br />\n	Lucas is a Nebraska-born performer who has been nominated for multiple music awards both in</b></p>\n<p class="MsoNormal" style="margin-top:0in\;margin-right:0in\;margin-bottom:1.0pt\;\nmargin-left:27.0pt\;text-indent:-27.0pt\;line-height:75%\;mso-pagination:none\;\ntab-stops:4.4pt">\n	<b><span segoe="" style="font-family:">Country and Contemporary Christian circles. He&rsquo\;s also written and performed TV theme songs\, </span></b></p>\n<p class="MsoNormal" style="margin-top:0in\;margin-right:0in\;margin-bottom:1.0pt\;\nmargin-left:27.0pt\;text-indent:-27.0pt\;line-height:75%\;mso-pagination:none\;\ntab-stops:4.4pt">\n	<b><span segoe="" style="font-family:">toured all over the world\, and has appeared on a TV show on the Animal Planet network. It seems </span></b></p>\n<p class="MsoNormal" style="margin-top:0in\;margin-right:0in\;margin-bottom:1.0pt\;\nmargin-left:27.0pt\;text-indent:-27.0pt\;line-height:75%\;mso-pagination:none\;\ntab-stops:4.4pt">\n	<b><span segoe="" style="font-family:">there isn&rsquo\;t anything this guy can&rsquo\;t do!</span></b></p>\n
LOCATION:Minden Opera House
UID:e.1404.3248
SEQUENCE:3
DTSTAMP:20260424T081551Z
URL:https://chambermaster.kearneycoc.org/events/details/y102-presents-moh-gone-country-07-25-2013-3248
END:VEVENT

END:VCALENDAR
