BEGIN:VCALENDAR
VERSION:2.0
PRODID:-//ChamberMaster//Event Calendar 2.0//EN
METHOD:PUBLISH
X-PUBLISHED-TTL:P3D
REFRESH-INTERVAL:P3D
CALSCALE:GREGORIAN
BEGIN:VEVENT
DTSTART:20140924T000000Z
DTEND:20140924T023000Z
X-MICROSOFT-CDO-ALLDAYEVENT:FALSE
SUMMARY:Yakov Smirnoff's Happily Ever Laughter
DESCRIPTION:Yakov Smirnoff showcases the joy of laughter in relationships\, while helping you discover how to fall in love all over again and live ?happily ever laughter?
X-ALT-DESC;FMTTYPE=text/html:Yakov Smirnoff showcases the joy of laughter in relationships\, while helping you discover how to fall in love all over again and live ?happily ever laughter?
LOCATION:Merryman Performing Arts Center 225 West 22nd Street
UID:e.1404.5326
SEQUENCE:3
DTSTAMP:20260423T083630Z
URL:https://chambermaster.kearneycoc.org/events/details/yakov-smirnoff-s-happily-ever-laughter-09-23-2014-5326
END:VEVENT

END:VCALENDAR
