BEGIN:VCALENDAR
VERSION:2.0
PRODID:-//ChamberMaster//Event Calendar 2.0//EN
METHOD:PUBLISH
X-PUBLISHED-TTL:P3D
REFRESH-INTERVAL:P3D
CALSCALE:GREGORIAN
BEGIN:VEVENT
DTSTART:20220604T180000Z
DTEND:20220604T190000Z
X-MICROSOFT-CDO-ALLDAYEVENT:FALSE
SUMMARY:Yanney Heritage Park receives the Rising Star Award
DESCRIPTION:The NEBRASKAland Foundation will present Yanney Heritage Park with the Rising Star Award on Saturday\, June 4th at 1:00 p.m. at Mitzi's Pavilion and Patios\, located in the southwest portion of the park at 611 Yanney Ave\, Kearney\, NE.
X-ALT-DESC;FMTTYPE=text/html:The NEBRASKAland Foundation will present Yanney Heritage Park with the Rising Star Award on Saturday\, June 4th at 1:00 p.m. at Mitzi&#39\;s Pavilion and Patios\, located in the southwest portion of the park at 611 Yanney Ave\, Kearney\, NE.&nbsp\;&nbsp\;&nbsp\;&nbsp\;&nbsp\;&nbsp\;&nbsp\;&nbsp\;&nbsp\;
LOCATION:Mitzi's Pavilion and Patios\, located in the southwest portion of the park at 611 Yanney Ave\, Kearney\, NE.
UID:e.1404.19752
SEQUENCE:3
DTSTAMP:20260421T153514Z
URL:https://chambermaster.kearneycoc.org/events/details/yanney-heritage-park-receives-the-rising-star-award-19752
END:VEVENT

END:VCALENDAR
