BEGIN:VCALENDAR
VERSION:2.0
PRODID:-//ChamberMaster//Event Calendar 2.0//EN
METHOD:PUBLISH
X-PUBLISHED-TTL:P3D
REFRESH-INTERVAL:P3D
CALSCALE:GREGORIAN
BEGIN:VEVENT
DTSTART;VALUE=DATE:20130601
DTEND;VALUE=DATE:20130602
TRANSP:TRANSPARENT
X-MICROSOFT-CDO-ALLDAYEVENT:TRUE
SUMMARY:Yanney Park Heritage Day
DESCRIPTION:8:30am   Sue Bush Memorial 5K Run / Walk \n\n	All ages\, call 237-4644 for an entry form. Register by May 24 to get a t-shirt\n\n	 \n\n	10:00am   Yoga Class   Peterson Sr. Activity Center\n\n	10:00am-2:00pm   COAD "Mini" Safety Fair\n\n	10:00am-1:00pm   Storybook Walk\n\n	10:30am   Ballroom Dance   Peterson Sr. Activity Center\n\n	10:30am-1:00pm   Family Fishing Day\n\n	12:00pm-3:00pm   Cabela's Kayak Test Drive\n\n	12:00pm   3:00pm   Kayakjak's Kayak Fishing\n\n	12:00pm   Grass Volleyball Tournament\n\n	Call 237-4644 for an entry form. Register by May 24\n\n	 \n\n	1:00-4:00pm   Pitch Tournament   Peterson Sr. Activity Center\n\n	1:00pm   Tango Class   Peterson Sr. Activity Center\n\n	1:00-9:00pm   Concessions / Marina Open\n\n	2:00pm   Zumba   Peterson Sr. Activity Center\n\n	3:00pm   United Way Duck Race\n\n	4:00-7:00pm   Explore Theater With Crane River Theatre\n\n	4:00-9:00pm   Giant Inflatables for Kids\n\n	  Food Fair\n\n	4:30-6:30pm   Super Outrageous Games for Kids\n\n	5:00-5:30pm   Martial Arts Performance\n\n	\n\n	Entertainment\n\n	4:30pm Westwind\n\n	6:30pm The Haunted Windchimes\n\n	8:30pm Red Wanting Blue\n\n	Fireworks following concerts! (Weather Permitting)
X-ALT-DESC;FMTTYPE=text/html:<div>\n	8:30am &bull\; Sue Bush Memorial 5K Run / Walk&nbsp\;</div>\n<div>\n	All ages\, call 237-4644 for an entry form. Register by May 24 to get a t-shirt<br />\n	&nbsp\;</div>\n<div>\n	10:00am &bull\; Yoga Class &bull\; Peterson Sr. Activity Center</div>\n<div>\n	10:00am-2:00pm &bull\; COAD &ldquo\;Mini&rdquo\; Safety Fair</div>\n<div>\n	10:00am-1:00pm &bull\; Storybook Walk</div>\n<div>\n	10:30am &bull\; Ballroom Dance &bull\; Peterson Sr. Activity Center</div>\n<div>\n	10:30am-1:00pm &bull\; Family Fishing Day</div>\n<div>\n	12:00pm-3:00pm &bull\; Cabela&rsquo\;s Kayak Test Drive</div>\n<div>\n	12:00pm &ndash\; 3:00pm &bull\; Kayakjak&rsquo\;s Kayak Fishing</div>\n<div>\n	12:00pm &bull\; Grass Volleyball Tournament</div>\n<div>\n	Call 237-4644 for an entry form. Register by May 24<br />\n	&nbsp\;</div>\n<div>\n	1:00-4:00pm &bull\; Pitch Tournament &bull\; Peterson Sr. Activity Center</div>\n<div>\n	1:00pm &bull\; Tango Class &bull\; Peterson Sr. Activity Center</div>\n<div>\n	1:00-9:00pm &bull\; Concessions / Marina Open</div>\n<div>\n	2:00pm &bull\; Zumba &bull\; Peterson Sr. Activity Center</div>\n<div>\n	3:00pm &bull\; United Way Duck Race</div>\n<div>\n	4:00-7:00pm &bull\; Explore Theater With Crane River Theatre</div>\n<div>\n	4:00-9:00pm &bull\; Giant Inflatables for Kids</div>\n<div>\n	&bull\; Food Fair</div>\n<div>\n	4:30-6:30pm &bull\; Super Outrageous Games for Kids</div>\n<div>\n	5:00-5:30pm &bull\; Martial Arts Performance<br />\n	<br />\n	<u><strong>Entertainment</strong></u><br />\n	4:30pm&nbsp\;Westwind<br />\n	6:30pm&nbsp\;The Haunted Windchimes<br />\n	8:30pm&nbsp\;Red Wanting Blue<br />\n	Fireworks following concerts! (Weather Permitting)</div>\n
LOCATION:Yanney Heritage Park
UID:e.1404.3200
SEQUENCE:3
DTSTAMP:20260424T102151Z
URL:https://chambermaster.kearneycoc.org/events/details/yanney-park-heritage-day-06-01-2013-3200
END:VEVENT

END:VCALENDAR
