BEGIN:VCALENDAR
VERSION:2.0
PRODID:-//ChamberMaster//Event Calendar 2.0//EN
METHOD:PUBLISH
X-PUBLISHED-TTL:P3D
REFRESH-INTERVAL:P3D
CALSCALE:GREGORIAN
BEGIN:VEVENT
DTSTART:20130530T113000Z
DTEND:20130531T010000Z
X-MICROSOFT-CDO-ALLDAYEVENT:FALSE
SUMMARY:YMCA Stem Cell Drive
DESCRIPTION:STACI CANNON was diagnosed with Non-Hodgkin Lymphoma in March 2011. Following aggressive chemotherapy and having a stem cell transplant with her own cells\, STACI'S cancer has returned as Non-Hodgkin Lymphoma Diffused Large B Cell. She is in need of a donor stem cell transplant. Please HELP by having a "simple" cheek swab to be tested. By the grace of God you could "BE THE MATCH" for STACI or others needing a transplant. STACI'S husband is JOHN CANNON\, and they have two sons A.J. and ANDREW. Thank you! God's blessings to you! \n\n	 \n\n	THURSDAY -MAY 30\, 2013 \n\n	 \n\n	6:30 AM - 8:00 PM \n\n	KEARNEY FAMILY YMCA \n\n	4500 6TH AVENUE \n\n	KEARNEY\, NE \n\n	 \n\n	Roxanne Bascom 308-440-6147 or Terri Lind herbs9@yahoo.com\n\n	 \n\n	Potential donors must be between the ages of 18-44 to join the registry at drive. \n\n	 \n\n	Ages 45   60 years of age can register on line at www.marrow.org/join
X-ALT-DESC;FMTTYPE=text/html:<div>\n	STACI CANNON was diagnosed with Non-Hodgkin Lymphoma in March 2011. Following aggressive chemotherapy and having a stem cell transplant with her own cells\, STACI&#39\;S cancer has returned as Non-Hodgkin Lymphoma Diffused Large B Cell. She is in need of a donor stem cell transplant. Please HELP by having a &quot\;simple&quot\; cheek swab to be tested. By the grace of God you could &quot\;BE THE MATCH&quot\; for STACI or others needing a transplant. STACI&#39\;S husband is JOHN CANNON\, and they have two sons A.J. and ANDREW. Thank you! God&#39\;s blessings to you!&nbsp\;</div>\n<div>\n	&nbsp\;</div>\n<div>\n	THURSDAY -MAY 30\, 2013&nbsp\;</div>\n<div>\n	&nbsp\;</div>\n<div>\n	6:30 AM - 8:00 PM&nbsp\;</div>\n<div>\n	KEARNEY FAMILY YMCA&nbsp\;</div>\n<div>\n	4500 6TH AVENUE&nbsp\;</div>\n<div>\n	KEARNEY\, NE&nbsp\;</div>\n<div>\n	&nbsp\;</div>\n<div>\n	Roxanne Bascom 308-440-6147 or Terri Lind herbs9@yahoo.com</div>\n<div>\n	&nbsp\;</div>\n<div>\n	Potential donors must be between the ages of 18-44 to join the registry at drive.&nbsp\;</div>\n<div>\n	&nbsp\;</div>\n<div>\n	Ages 45 &ndash\; 60 years of age can register on line at www.marrow.org/join&nbsp\;</div>\n<div>\n	&nbsp\;</div>\n
LOCATION:THURSDAY -MAY 30\, 2013 6:30 AM - 8:00 PM KEARNEY FAMILY YMCA 4500 6TH AVENUE KEARNEY\, NE
UID:e.1404.3217
SEQUENCE:3
DTSTAMP:20260424T122204Z
URL:https://chambermaster.kearneycoc.org/events/details/ymca-stem-cell-drive-05-30-2013-3217
END:VEVENT

END:VCALENDAR
