BEGIN:VCALENDAR
VERSION:2.0
PRODID:-//ChamberMaster//Event Calendar 2.0//EN
METHOD:PUBLISH
X-PUBLISHED-TTL:P3D
REFRESH-INTERVAL:P3D
CALSCALE:GREGORIAN
BEGIN:VEVENT
DTSTART:20150606T133000Z
DTEND:20150606T170000Z
X-MICROSOFT-CDO-ALLDAYEVENT:FALSE
SUMMARY:Young Entrepreneurs Shop Event
DESCRIPTION:Hilltop Mall is inviting kids Kindergarten-12th grade to apply for a chance to set up shop for a day! On Saturday\, June 6th\, young entrepreneurs will have the chance to learn first hand the fundamentals of business\, sell items such as gently used toys\, clothing\, handmade jewelry or other handmade crafts\, and earn some cash! Participants must submit their applications to the mall office by June 1st via mail\, email or phone. For more information on the event or to submit your child's application\, contact the Hilltop Mall Office at 308-236-9798. Applications may be sent via email to lwheatley@dp-mgmt.com or via mail to 5011 2nd Ave\, STE. 56\, Kearney\, NE 68847.
X-ALT-DESC;FMTTYPE=text/html:Hilltop Mall is inviting kids Kindergarten-12th grade to apply for a chance to set up shop for a day! On Saturday\, June 6th\, young entrepreneurs will have the chance to learn first hand the fundamentals of business\, sell items such as gently used toys\, clothing\, handmade jewelry or other handmade crafts\, and earn some cash! Participants must submit their applications to the mall office by June 1st via mail\, email or phone. For more information on the event or to submit your child&#39\;s application\, contact the Hilltop Mall Office at 308-236-9798. Applications may be sent via email to lwheatley@dp-mgmt.com or via mail to 5011 2nd Ave\, STE. 56\, Kearney\, NE 68847.
LOCATION:Hilltop Mall\, Kearney\, NE
UID:e.1404.6261
SEQUENCE:3
DTSTAMP:20260422T165643Z
URL:https://chambermaster.kearneycoc.org/events/details/young-entrepreneurs-shop-event-06-06-2015-6261
END:VEVENT

END:VCALENDAR
