BEGIN:VCALENDAR
VERSION:2.0
PRODID:-//ChamberMaster//Event Calendar 2.0//EN
METHOD:PUBLISH
X-PUBLISHED-TTL:P3D
REFRESH-INTERVAL:P3D
CALSCALE:GREGORIAN
BEGIN:VEVENT
DTSTART:20200218T130000Z
DTEND:20200218T150000Z
X-MICROSOFT-CDO-ALLDAYEVENT:FALSE
SUMMARY:YP Wake-UP
DESCRIPTION:Wake up with YPN! We'll have free brewed coffee and muffins for all members and enjoy casual networking from 7-8 a.m. Feel free to come any time before you head into work for the day. At 8:15 we'll hear from Barista's co-owners Jamin and Edgar about how Barista's got started and why they're so passionate about growing their business right here in Kearney\, NE.
X-ALT-DESC;FMTTYPE=text/html:<span style="color: rgb(60\, 64\, 67)\; font-family: Roboto\, Arial\, sans-serif\; font-size: 14px\; letter-spacing: 0.2px\; white-space: pre-wrap\;">Wake up with YPN! We&rsquo\;ll have free brewed coffee and muffins for all members and enjoy casual networking from 7-8 a.m. Feel free to come any time before you head into work for the day. At 8:15 we&rsquo\;ll hear from Barista&rsquo\;s co-owners Jamin and Edgar about how Barista&rsquo\;s got started and why they&rsquo\;re so passionate about growing their business right here in Kearney\, NE.</span>
LOCATION:Barista's Campus Location 2301 13th Ave.
UID:e.1404.18347
SEQUENCE:3
DTSTAMP:20260425T112514Z
URL:https://chambermaster.kearneycoc.org/events/details/yp-wake-up-18347
END:VEVENT

END:VCALENDAR
