BEGIN:VCALENDAR
VERSION:2.0
PRODID:-//ChamberMaster//Event Calendar 2.0//EN
METHOD:PUBLISH
X-PUBLISHED-TTL:P3D
REFRESH-INTERVAL:P3D
CALSCALE:GREGORIAN
BEGIN:VEVENT
DTSTART:20131024T223000Z
DTEND:20131024T223000Z
X-MICROSOFT-CDO-ALLDAYEVENT:FALSE
SUMMARY:YPN - Beer Tasting
DESCRIPTION:Come Learn About Brewing at our NEW Beer Tasting event!\n\nAttendees will get to try a variety of brews by Thunderhead's master brewer\, Trevor Schaben.
X-ALT-DESC;FMTTYPE=text/html:<strong>Come Learn About Brewing at our NEW Beer Tasting event!</strong><br />\nAttendees will get to try a variety of brews by Thunderhead&#39\;s master brewer\, Trevor Schaben.<br />\n<br />\n
LOCATION:Thunderhead Brewing Company 18 E 21st Street Upstairs
UID:e.1404.3316
SEQUENCE:3
DTSTAMP:20260424T020542Z
URL:https://chambermaster.kearneycoc.org/events/details/ypn-beer-tasting-10-24-2013-3316
END:VEVENT

END:VCALENDAR
