BEGIN:VCALENDAR
VERSION:2.0
PRODID:-//ChamberMaster//Event Calendar 2.0//EN
METHOD:PUBLISH
X-PUBLISHED-TTL:P3D
REFRESH-INTERVAL:P3D
CALSCALE:GREGORIAN
BEGIN:VEVENT
DTSTART:20191214T010000Z
DTEND:20191214T050000Z
X-MICROSOFT-CDO-ALLDAYEVENT:FALSE
SUMMARY:YPN Christmas Party
DESCRIPTION:YPN Christmas Party\n\nFriday\, December 13 7 PM\n\nPlatte Valley Brewery
X-ALT-DESC;FMTTYPE=text/html:YPN Christmas Party<br />\nFriday\, December 13 7 PM<br />\nPlatte Valley Brewery
LOCATION:Platte Valley Brewery
UID:e.1404.18276
SEQUENCE:3
DTSTAMP:20260425T151020Z
URL:https://chambermaster.kearneycoc.org/events/details/ypn-christmas-party-18276
END:VEVENT

END:VCALENDAR
