BEGIN:VCALENDAR
VERSION:2.0
PRODID:-//ChamberMaster//Event Calendar 2.0//EN
METHOD:PUBLISH
X-PUBLISHED-TTL:P3D
REFRESH-INTERVAL:P3D
CALSCALE:GREGORIAN
BEGIN:VEVENT
DTSTART:20221015T160000Z
DTEND:20221015T210000Z
X-MICROSOFT-CDO-ALLDAYEVENT:FALSE
SUMMARY:YPN Football Tailgate at UNK
DESCRIPTION:Look for the YPN banner\, BYO drink must be in a plastic cup.\n\nBurgers/hotdogs will be provided (optional: bring a snack to share!)
X-ALT-DESC;FMTTYPE=text/html:Look for the YPN banner\, BYO drink <u><strong>must</strong></u> be in a plastic cup.<br />\nBurgers/hotdogs will be provided (optional: bring a snack to share!)<br />\n&nbsp\;
LOCATION:Cope Stadium 2708 12th Ave.
UID:e.1404.20098
SEQUENCE:3
DTSTAMP:20260419T121341Z
URL:https://chambermaster.kearneycoc.org/events/details/ypn-football-tailgate-at-unk-20098
END:VEVENT

END:VCALENDAR
