BEGIN:VCALENDAR
VERSION:2.0
PRODID:-//ChamberMaster//Event Calendar 2.0//EN
METHOD:PUBLISH
X-PUBLISHED-TTL:P3D
REFRESH-INTERVAL:P3D
CALSCALE:GREGORIAN
BEGIN:VEVENT
DTSTART:20140225T180000Z
DTEND:20140225T190000Z
X-MICROSOFT-CDO-ALLDAYEVENT:FALSE
SUMMARY:YPN Lunch with a Leader
DESCRIPTION:Join us for our first Personal and Professional Development event for 2014. City Council Member and 2013 YP of the Year\, Jonathan Nikkila will be joining us for lunch. \n\n\n\nJonathan will be sharing about his journey from beginning YPN to where he is today. \n\n\n\nPlease bring your own lunch along with questions for Jonathan and join us!
X-ALT-DESC;FMTTYPE=text/html:<span style="font-size: 11pt\; font-family: Arial\, sans-serif\; color: rgb(51\, 51\, 51)\; background-position: initial initial\; background-repeat: initial initial\;">Join us for our first Personal and Professional Development event for 2014. City Council Member and 2013 YP of the Year\, Jonathan Nikkila will be joining us for lunch.&nbsp\;</span><br />\n<br />\n<span style="color:rgb(51\,51\,51)\;"><span style="font-family:arial\,sans-serif\;"><span style="font-size:11pt\;">Jonathan will be sharing about his journey from beginning YPN to where he is today.&nbsp\;</span></span></span><br />\n<br />\n<span style="color:rgb(51\,51\,51)\;"><span style="font-family:arial\,sans-serif\;"><span style="font-size:11pt\;">Please bring your own lunch along with questions for Jonathan and join us!</span></span></span>
LOCATION:Kearney Chamber of Commerce 1007 2nd Ave Kearney\, NE
UID:e.1404.4507
SEQUENCE:3
DTSTAMP:20260423T195434Z
URL:https://chambermaster.kearneycoc.org/events/details/ypn-lunch-with-a-leader-02-25-2014-4507
END:VEVENT

END:VCALENDAR
