BEGIN:VCALENDAR
VERSION:2.0
PRODID:-//ChamberMaster//Event Calendar 2.0//EN
METHOD:PUBLISH
X-PUBLISHED-TTL:P3D
REFRESH-INTERVAL:P3D
CALSCALE:GREGORIAN
BEGIN:VEVENT
DTSTART:20140513T170000Z
DTEND:20140513T180000Z
X-MICROSOFT-CDO-ALLDAYEVENT:FALSE
SUMMARY:YPN: Lunch with a Leader
DESCRIPTION:Join us May 13th\, from Noon to 1 p.m. at the Kearney Chamber of Commerce board room to hear from Central Community College President Dr. Greg P. Smith about the upcoming plans CCC has to expand in Kearney! \n\n\n\nThis event is open to members and non- members. \n\nNo cost for admission. \n\n\n\nPlease plan to bring your own lunch.
X-ALT-DESC;FMTTYPE=text/html:<span style="color: rgb(20\, 24\, 35)\; font-family: Helvetica\, Arial\, 'lucida grande'\, tahoma\, verdana\, arial\, sans-serif\; font-size: 14px\; line-height: 17.920000076293945px\;">Join us May 13th\, from Noon to 1 p.m. at the Kearney Chamber of Commerce board room to hear from Central Community College President Dr. Greg P. Smith about the upcoming plans CCC has to expand in Kearney!&nbsp\;</span><br style="color: rgb(20\, 24\, 35)\; font-family: Helvetica\, Arial\, 'lucida grande'\, tahoma\, verdana\, arial\, sans-serif\; font-size: 14px\; line-height: 17.920000076293945px\;" />\n<br style="color: rgb(20\, 24\, 35)\; font-family: Helvetica\, Arial\, 'lucida grande'\, tahoma\, verdana\, arial\, sans-serif\; font-size: 14px\; line-height: 17.920000076293945px\;" />\n<span style="color: rgb(20\, 24\, 35)\; font-family: Helvetica\, Arial\, 'lucida grande'\, tahoma\, verdana\, arial\, sans-serif\; font-size: 14px\; line-height: 17.920000076293945px\;">This event is open to members and non- members.&nbsp\;</span><br style="color: rgb(20\, 24\, 35)\; font-family: Helvetica\, Arial\, 'lucida grande'\, tahoma\, verdana\, arial\, sans-serif\; font-size: 14px\; line-height: 17.920000076293945px\;" />\n<span style="color: rgb(20\, 24\, 35)\; font-family: Helvetica\, Arial\, 'lucida grande'\, tahoma\, verdana\, arial\, sans-serif\; font-size: 14px\; line-height: 17.920000076293945px\;">No cost for admission.&nbsp\;</span><br style="color: rgb(20\, 24\, 35)\; font-family: Helvetica\, Arial\, 'lucida grande'\, tahoma\, verdana\, arial\, sans-serif\; font-size: 14px\; line-height: 17.920000076293945px\;" />\n<br style="color: rgb(20\, 24\, 35)\; font-family: Helvetica\, Arial\, 'lucida grande'\, tahoma\, verdana\, arial\, sans-serif\; font-size: 14px\; line-height: 17.920000076293945px\;" />\n<span style="color: rgb(20\, 24\, 35)\; font-family: Helvetica\, Arial\, 'lucida grande'\, tahoma\, verdana\, arial\, sans-serif\; font-size: 14px\; line-height: 17.920000076293945px\;">Please plan to bring your own lunch.</span>
LOCATION:Kearney Area Chamber of Commerce Board Room 1007 2nd Ave Kearney NE
UID:e.1404.4702
SEQUENCE:3
DTSTAMP:20260423T145835Z
URL:https://chambermaster.kearneycoc.org/events/details/ypn-lunch-with-a-leader-05-13-2014-4702
END:VEVENT

END:VCALENDAR
