BEGIN:VCALENDAR
VERSION:2.0
PRODID:-//ChamberMaster//Event Calendar 2.0//EN
METHOD:PUBLISH
X-PUBLISHED-TTL:P3D
REFRESH-INTERVAL:P3D
CALSCALE:GREGORIAN
BEGIN:VEVENT
DTSTART:20200130T230000Z
DTEND:20200131T010000Z
X-MICROSOFT-CDO-ALLDAYEVENT:FALSE
SUMMARY:YPN Meet & Greet
DESCRIPTION:Start of the year with YPN at our first event of 2020! Be entered for door prizes\, receive a FREE professional headshot\, and meet young professionals in the Kearney area!\n\n\n\nThis will be a social event\, but feel free to bring your business cards and 'work the room' if that's your jam\, otherwise we'll also have some fun networking activities planned.\n\n\n\nDelicious food and one drink ticket provided!\n\n\n\nBring a guest and be entered to win a $50 Cunningham's Gift Card!
X-ALT-DESC;FMTTYPE=text/html:<span style="color: rgb(29\, 33\, 41)\; font-family: system-ui\, -apple-system\, system-ui\, &quot\;.SFNSText-Regular&quot\;\, sans-serif\; font-size: 14px\; white-space: pre-wrap\;">Start of the year with YPN at our first event of 2020! Be entered for door prizes\, receive a FREE professional headshot\, and meet young professionals in the Kearney area!</span><br style="color: rgb(29\, 33\, 41)\; font-family: system-ui\, -apple-system\, system-ui\, &quot\;.SFNSText-Regular&quot\;\, sans-serif\; font-size: 14px\; white-space: pre-wrap\;" />\n<br style="color: rgb(29\, 33\, 41)\; font-family: system-ui\, -apple-system\, system-ui\, &quot\;.SFNSText-Regular&quot\;\, sans-serif\; font-size: 14px\; white-space: pre-wrap\;" />\n<span style="color: rgb(29\, 33\, 41)\; font-family: system-ui\, -apple-system\, system-ui\, &quot\;.SFNSText-Regular&quot\;\, sans-serif\; font-size: 14px\; white-space: pre-wrap\;">This will be a social event\, but feel free to bring your business cards and &lsquo\;work the room&rsquo\; if that&rsquo\;s your jam\, otherwise we&rsquo\;ll also have some fun networking activities planned.</span><br style="color: rgb(29\, 33\, 41)\; font-family: system-ui\, -apple-system\, system-ui\, &quot\;.SFNSText-Regular&quot\;\, sans-serif\; font-size: 14px\; white-space: pre-wrap\;" />\n<br style="color: rgb(29\, 33\, 41)\; font-family: system-ui\, -apple-system\, system-ui\, &quot\;.SFNSText-Regular&quot\;\, sans-serif\; font-size: 14px\; white-space: pre-wrap\;" />\n<span style="color: rgb(29\, 33\, 41)\; font-family: system-ui\, -apple-system\, system-ui\, &quot\;.SFNSText-Regular&quot\;\, sans-serif\; font-size: 14px\; white-space: pre-wrap\;">Delicious food and one drink ticket provided!</span><br style="color: rgb(29\, 33\, 41)\; font-family: system-ui\, -apple-system\, system-ui\, &quot\;.SFNSText-Regular&quot\;\, sans-serif\; font-size: 14px\; white-space: pre-wrap\;" />\n<br style="color: rgb(29\, 33\, 41)\; font-family: system-ui\, -apple-system\, system-ui\, &quot\;.SFNSText-Regular&quot\;\, sans-serif\; font-size: 14px\; white-space: pre-wrap\;" />\n<span style="color: rgb(29\, 33\, 41)\; font-family: system-ui\, -apple-system\, system-ui\, &quot\;.SFNSText-Regular&quot\;\, sans-serif\; font-size: 14px\; white-space: pre-wrap\;">Bring a guest and be entered to win a $50 Cunningham&rsquo\;s Gift Card!</span>
LOCATION:Cunningham's on the Lake 610 Talmadge St.\, Suite A Kearney\, NE 68845
UID:e.1404.18308
SEQUENCE:3
DTSTAMP:20260425T132121Z
URL:https://chambermaster.kearneycoc.org/events/details/ypn-meet-greet-18308
END:VEVENT

END:VCALENDAR
