BEGIN:VCALENDAR
VERSION:2.0
PRODID:-//ChamberMaster//Event Calendar 2.0//EN
METHOD:PUBLISH
X-PUBLISHED-TTL:P3D
REFRESH-INTERVAL:P3D
CALSCALE:GREGORIAN
BEGIN:VEVENT
DTSTART:20140507T170000Z
DTEND:20140507T180000Z
X-MICROSOFT-CDO-ALLDAYEVENT:FALSE
SUMMARY:YPN New Member Orientation
DESCRIPTION:Bring your lunch\, connect with other new members and learn more about your Young Professional Network! The Membership Committee and Board of Directors are excited to let you know more about YPN events\, committees and describe the many ways you can get involved. All new members are encouraged to attend this orientation.
X-ALT-DESC;FMTTYPE=text/html:Bring your lunch\, connect with other new members and learn more about your Young Professional Network! The Membership Committee and Board of Directors are excited to let you know more about YPN events\, committees and describe the many ways you can get involved. All new members are encouraged to attend this orientation.
LOCATION:Kearney Area Chamber of Commerce Board Room 1007 2nd Ave Kearney\, NE
UID:e.1404.4701
SEQUENCE:3
DTSTAMP:20260423T150849Z
URL:https://chambermaster.kearneycoc.org/events/details/ypn-new-member-orientation-05-07-2014-4701
END:VEVENT

END:VCALENDAR
