BEGIN:VCALENDAR
VERSION:2.0
PRODID:-//ChamberMaster//Event Calendar 2.0//EN
METHOD:PUBLISH
X-PUBLISHED-TTL:P3D
REFRESH-INTERVAL:P3D
CALSCALE:GREGORIAN
BEGIN:VEVENT
DTSTART:20140726T210000Z
DTEND:20140727T010000Z
X-MICROSOFT-CDO-ALLDAYEVENT:FALSE
SUMMARY:YPN Picnic
DESCRIPTION:We will be grilling burgers and hot dogs!  If your last name begins with an A-M please bring a side or salad. If your last name begins with N-Z please bring a dessert!\n\nBYOD Bring your own drinks\, coolers.  Please\n\nremember no alcohol is allowed at Harmon \n\npark.\n\nBYOYG  Bring your own yard game if you \n\nwould like too!\n\nThis is a family friendly event so please\n\nfeel free to bring the kids along too!
X-ALT-DESC;FMTTYPE=text/html:<span style="font-weight:bold\;language:en-US\;"><span style="color:#0070C0\;"><span style="font-family:calibri\;"><span style="font-size:11.0pt\;">We will be grilling burgers and hot dogs!&nbsp\; If your last name begins with an A-M please bring a side or salad. If your last name begins with N-Z please bring a dessert!</span></span></span></span><br />\n<span style="font-weight:bold\;language:en-US\;"><span style="color:#0070C0\;"><span style="font-family:calibri\;"><span style="font-size:11.0pt\;">BYOD&mdash\;Bring your own drinks\, coolers.&nbsp\; Please</span></span></span></span><br />\n<span style="font-weight:bold\;language:en-US\;"><span style="color:#0070C0\;"><span style="font-family:calibri\;"><span style="font-size:11.0pt\;">remember no alcohol is allowed at Harmon </span></span></span></span><br />\n<span style="font-weight:bold\;language:en-US\;"><span style="color:#0070C0\;"><span style="font-family:calibri\;"><span style="font-size:11.0pt\;">park.</span></span></span></span><br />\n<span style="font-weight:bold\;language:en-US\;"><span style="color:#0070C0\;"><span style="font-family:calibri\;"><span style="font-size:11.0pt\;">BYOYG&ndash\; Bring your own yard game if you </span></span></span></span><br />\n<span style="font-weight:bold\;language:en-US\;"><span style="color:#0070C0\;"><span style="font-family:calibri\;"><span style="font-size:11.0pt\;">would like too!</span></span></span></span><br />\n<span style="font-weight:bold\;language:en-US\;"><span style="color:#0070C0\;"><span style="font-family:calibri\;"><span style="font-size:11.0pt\;">This is a family friendly event so please</span></span></span></span><br />\n<span style="font-weight:bold\;language:en-US\;"><span style="color:#0070C0\;"><span style="font-family:calibri\;"><span style="font-size:11.0pt\;">feel free to bring the kids along too!</span></span></span></span><br />\n&nbsp\;
LOCATION:Location: Harmon Park\, Sertoma Shelter
UID:e.1404.5010
SEQUENCE:3
DTSTAMP:20260423T115624Z
URL:https://chambermaster.kearneycoc.org/events/details/ypn-picnic-07-26-2014-5010
END:VEVENT

END:VCALENDAR
