BEGIN:VCALENDAR
VERSION:2.0
PRODID:-//ChamberMaster//Event Calendar 2.0//EN
METHOD:PUBLISH
X-PUBLISHED-TTL:P3D
REFRESH-INTERVAL:P3D
CALSCALE:GREGORIAN
BEGIN:VEVENT
DTSTART:20221013T230000Z
DTEND:20221014T010000Z
X-MICROSOFT-CDO-ALLDAYEVENT:FALSE
SUMMARY:YPN Social at Thunderhead
DESCRIPTION:*NOTE - this is a membership-based group and new members must apply to join. To learn more about YPN\, click here.\n\n\n\nSpeed Network Activity - meet a new friend!
X-ALT-DESC;FMTTYPE=text/html:<em><strong>*NOTE -</strong>&nbsp\;this is a membership-based group and new members must apply to join. To learn more about YPN\, click <a href="https://www.kearneycoc.org/kearneyypn">here</a>.</em><br />\n<br />\nSpeed Network Activity - meet a new friend!
LOCATION:Thunderhead Brewing Company\, upstairs area 18 E. 21st St.
UID:e.1404.20097
SEQUENCE:3
DTSTAMP:20260419T121127Z
URL:https://chambermaster.kearneycoc.org/events/details/ypn-social-at-thunderhead-20097
END:VEVENT

END:VCALENDAR
