BEGIN:VCALENDAR
VERSION:2.0
PRODID:-//ChamberMaster//Event Calendar 2.0//EN
METHOD:PUBLISH
X-PUBLISHED-TTL:P3D
REFRESH-INTERVAL:P3D
CALSCALE:GREGORIAN
BEGIN:VEVENT
DTSTART:20140405T000000Z
DTEND:20140405T000000Z
X-MICROSOFT-CDO-ALLDAYEVENT:FALSE
SUMMARY:YPN - Wine Tasting
DESCRIPTION:Join YPN for a wine tasting following our First Friday social. The wine tasting will include 4 stations with food and wine. The wines available will be Merlot\, Cabernet\, Chardonnay and a Sweet White wine. Each person will receive 4 drink tickets to use at the booths\, as they wish. An RSVP is required.
X-ALT-DESC;FMTTYPE=text/html:Join YPN for a wine tasting following our First Friday social. The wine tasting will include 4 stations with food and wine. The wines available will be Merlot\, Cabernet\, Chardonnay and a Sweet White wine. Each person will receive 4 drink tickets to use at the booths\, as they wish. An RSVP is required.&nbsp\;
LOCATION:Kearney Country Club 2800 19th Avenue Kearney\, NE
UID:e.1404.4675
SEQUENCE:3
DTSTAMP:20260423T162923Z
URL:https://chambermaster.kearneycoc.org/events/details/ypn-wine-tasting-04-04-2014-4675
END:VEVENT

END:VCALENDAR
